BEGIN:VCALENDAR
VERSION:2.0
PRODID:-//eventon.com NONSGML v1.0//EN
CALSCALE:GREGORIAN
METHOD:PUBLISH
BEGIN:VEVENT
UID:69e5e1697e43d
DTSTAMP:20260420T081849Z
DTSTART:20251011
DTEND:20251012
LOCATION:Loferer und Leoganger Steinberge
SUMMARY:Kirchberg - Schaffelberg
DESCRIPTION:Eine schöne abwechslungsreiche Rundtour über 2 Gipfel im Kirc
 hbergstock. Von Sankt Ulrich geht es über eine spektakuläre steinerne Sti
 ege auf den Kirchberg und von dort weiter auf den Schafelberg. Der kurze ab
 er sehr steile Abstieg führt über den Teufelspalfen zurück ins Dorfzentr
 um. Die schwierigen Passagen sind mit Drahtseilen abgesichert.\nhttps://www
 .dav-burghausen.de/events/kirchberg-schaffelberg-2/
URL:https://www.dav-burghausen.de/events/kirchberg-schaffelberg-2/
END:VEVENT
END:VCALENDAR