BEGIN:VCALENDAR
VERSION:2.0
PRODID:-//eventon.com NONSGML v1.0//EN
CALSCALE:GREGORIAN
METHOD:PUBLISH
BEGIN:VEVENT
UID:69eb455ecb93d
DTSTAMP:20260424T102638Z
DTSTART:20240903
DTEND:20240904
LOCATION:Berchtesgadener Alpen
SUMMARY:Achhorn an der Reiter Alpe
DESCRIPTION:Startpunkt der Tour ist der Parkplatz beim Alpenbad über den s
 chön gelegenen Westhang steigen wir auf den Gipfel des Achhorns\,  1316m. 
 Der Absteig erfolgt bis zum Abzweig\,  &#8220;Aschauer Sattel&#8221; auf gl
 eichem Weg und führt uns anschließend in das  Innersbachtal. Von dort ge
 langen wir über Reit in die Innersbachklamm\,  durch die[..]\nhttps://www.
 dav-burghausen.de/events/achhorn-an-der-reiter-alpe/
URL:https://www.dav-burghausen.de/events/achhorn-an-der-reiter-alpe/
END:VEVENT
END:VCALENDAR