BEGIN:VCALENDAR
VERSION:2.0
PRODID:-//eventon.com NONSGML v1.0//EN
CALSCALE:GREGORIAN
METHOD:PUBLISH
BEGIN:VEVENT
UID:69e5e3f53c1cf
DTSTAMP:20260420T082941Z
DTSTART:20250109T160000Z
DTEND:20250109T225900Z
LOCATION:Chiemgauer Alpen
SUMMARY:Feierabend Skitour
DESCRIPTION:Feierabend Runde in den Chiemgauer Alpen. Ziel nach Schnee- und
  Wetterlage\,  wie z.B. Unternbergalm\,  Steinlingalm\,  Götschen\,  &#823
 0; Gemeinschaftstour. Anmeldung und Organisation direkt per WhatsApp Gruppe
 . Treffpunkt ist auf dem Parkplatz südlich der Kletterhalle\nhttps://www.d
 av-burghausen.de/events/feierabend-skitour-2025/
URL:https://www.dav-burghausen.de/events/feierabend-skitour-2025/
END:VEVENT
END:VCALENDAR