BEGIN:VCALENDAR
VERSION:2.0
PRODID:-//eventon.com NONSGML v1.0//EN
CALSCALE:GREGORIAN
METHOD:PUBLISH
BEGIN:VEVENT
UID:69e8a0bb355b2
DTSTAMP:20260422T101939Z
DTSTART:20250109T160000Z
DTEND:20250109T225900Z
LOCATION:DAV Kletterzentrum Burghausen Franz-Alexander-Straße 10\,  84489 Burghausen
SUMMARY:Grundkurs Sportklettern (Halle)
DESCRIPTION:Dich fasziniert dieser tolle Sport\,  bei dem es neben Kraft un
 d Ausdauer auch auf die richtige Technik ankommt? Dann bist Du bei dem Spor
 tklettern Grundkurs genau richtig. An fünf Kurstagen (je drei Stunden) ler
 nst Du alles\,  was Du zum Klettern brauchst: Vom richtigen Knoten über di
 e lebenswichtige Sicherungstechnik bis hin[..]\nhttps://www.dav-burghausen.
 de/events/grundkurs-sportklettern-halle-01-25/
URL:https://www.dav-burghausen.de/events/grundkurs-sportklettern-halle-01-25/
END:VEVENT
END:VCALENDAR