BEGIN:VCALENDAR
VERSION:2.0
PRODID:-//eventon.com NONSGML v1.0//EN
CALSCALE:GREGORIAN
METHOD:PUBLISH
BEGIN:VEVENT
UID:69e8056fcad94
DTSTAMP:20260421T231703Z
DTSTART:20250131
DTEND:20250201
LOCATION:Kitzbüheler Alpen
SUMMARY:Skitouren Grundkurs
DESCRIPTION:Der Kurs richtet sich an Einsteiger\,  die Skitouren im unvergl
 etscherten Gelände unternehmen möchten. An einem Theorieabend und drei Pr
 axistagen lernt ihr verschiedene Schneearten und die Grundlagen der Lawinen
 kunde kennen. Damit steigen wir auch ein in die Planung und Vorbereitung ei
 ner Skitour. Im Gelände werden wir verschiedene Aufstiegstechniken ausfüh
 rlich üben\,  euch[..]\nhttps://www.dav-burghausen.de/events/skitouren-gru
 ndkurs/
URL:https://www.dav-burghausen.de/events/skitouren-grundkurs/
END:VEVENT
END:VCALENDAR