BEGIN:VCALENDAR
VERSION:2.0
PRODID:-//eventon.com NONSGML v1.0//EN
CALSCALE:GREGORIAN
METHOD:PUBLISH
BEGIN:VEVENT
UID:69e7e9fb2ffd2
DTSTAMP:20260421T211955Z
DTSTART:20250517
DTEND:20250518
LOCATION:
SUMMARY:Fahrtechnik Grundkurs
DESCRIPTION:Mit der richtigen Fahrtechnik hast Du beim Mountainbiken mehr S
 paß und Freunde. In diesem Einsteigerkurs lernt ihr grundlegende Bewegungs
 abläufe um Euch sicher mit dem MTB durchs Gelände zu bewegen. In und um B
 urghausen zeigen wir Euch z.B. die richtige Grundposition\,  sicheres Brems
 en\,  Schalttechnik\,  wie man über Hindernisse  und durch die[..]\nhttps
 ://www.dav-burghausen.de/events/fahrtechnik-grundkurs-25/
URL:https://www.dav-burghausen.de/events/fahrtechnik-grundkurs-25/
END:VEVENT
END:VCALENDAR