BEGIN:VCALENDAR
VERSION:2.0
PRODID:-//eventon.com NONSGML v1.0//EN
CALSCALE:GREGORIAN
METHOD:PUBLISH
BEGIN:VEVENT
UID:69eb416a9fa5a
DTSTAMP:20260424T100946Z
DTSTART:20240829T060000Z
DTEND:20240829T215900Z
LOCATION:Chiemgauer Alpen
SUMMARY:Rundwanderung Schwarzrieshütte / Trockenbachtal
DESCRIPTION:Vom Wanderparkplatz Gammern wandern wir auf gut angelegten Alms
 trassen\,  die Wagener Alm links liegen lassend\,  auf das Almgebiet der Ka
 salm. Von dort steigen wir über schöne Waldsteige zur Schwarzriesenhütte
 . Der Rückweg geht über die Kasalm und dann auf anderem Weg zurück zum P
 arkplatz. Abfahrt ist um 8.00 Uhr am Bahnhofsvorplatz[..]\nhttps://www.dav-
 burghausen.de/events/rundwanderung-schwarzrieshuette-trockenbachtal/
URL:https://www.dav-burghausen.de/events/rundwanderung-schwarzrieshuette-trockenbachtal/
END:VEVENT
END:VCALENDAR