BEGIN:VCALENDAR
VERSION:2.0
PRODID:-//eventon.com NONSGML v1.0//EN
CALSCALE:GREGORIAN
METHOD:PUBLISH
BEGIN:VEVENT
UID:69e7e97a08a8a
DTSTAMP:20260421T211746Z
DTSTART:20250401T153000Z
DTEND:20250401T215900Z
LOCATION:
SUMMARY:Mountainbike Feierabendrunde
DESCRIPTION:Mountainbike Runde in Kooperation mit dem SV Wacker. Es geht ca
  2h rund um Burghausen\,  über Waldwege und den einen oder andern Trail. A
 nmeldung und Organisation direkt per Whatsapp Gruppe. Gemeinschaftstour!\nh
 ttps://www.dav-burghausen.de/events/mountainbike-feierabendrunde/
URL:https://www.dav-burghausen.de/events/mountainbike-feierabendrunde/
END:VEVENT
END:VCALENDAR