BEGIN:VCALENDAR
VERSION:2.0
PRODID:-//eventon.com NONSGML v1.0//EN
CALSCALE:GREGORIAN
METHOD:PUBLISH
BEGIN:VEVENT
UID:69e5e777804e6
DTSTAMP:20260420T084439Z
DTSTART:20250408T153000Z
DTEND:20250408T215900Z
LOCATION:
SUMMARY:Mountainbike Feierabendrunde
DESCRIPTION:Mountainbike Runde in Kooperation mit dem SV Wacker. Es geht ca
  2h rund um Burghausen\,  über Waldwege und den einen oder andern Trail. A
 nmeldung und Organisation direkt per Whatsapp Gruppe. Gemeinschaftstour!\nh
 ttps://www.dav-burghausen.de/events/mountainbike-feierabendrunde/var/ri-1.l
 -L1
URL:https://www.dav-burghausen.de/events/mountainbike-feierabendrunde/var/ri-1.l-L1
END:VEVENT
END:VCALENDAR