BEGIN:VCALENDAR
VERSION:2.0
PRODID:-//eventon.com NONSGML v1.0//EN
CALSCALE:GREGORIAN
METHOD:PUBLISH
BEGIN:VEVENT
UID:69eb43e2d8619
DTSTAMP:20260424T102018Z
DTSTART:20250320
DTEND:20250321
LOCATION:Chiemgauer Alpen
SUMMARY:Rundwanderung Daffnerwald-Almen am Heuberg
DESCRIPTION:Anfahrt über Traunstein\,  Samerberg und Grainbach bis zum Wal
 dparkplatz. Von dort mäßiger Anstieg über Forststrasse und weiter auf Wa
 ldpfad bis zu den Euzenauer Almen. Diese durchqueren wir\,  wandern weiter 
 zu den Daffnerwaldalmen\,  wo wir einkehren. Mit etwas Glück können wir d
 ie Krokusblüte auf den Almwiesen bewundern. Rückweg über Almwiesen\,  Wa
 ldpfad\, [..]\nhttps://www.dav-burghausen.de/events/rundwanderung-daffnerwa
 ld-almen-heuberg-gebiet/
URL:https://www.dav-burghausen.de/events/rundwanderung-daffnerwald-almen-heuberg-gebiet/
END:VEVENT
END:VCALENDAR