BEGIN:VCALENDAR
VERSION:2.0
PRODID:-//eventon.com NONSGML v1.0//EN
CALSCALE:GREGORIAN
METHOD:PUBLISH
BEGIN:VEVENT
UID:69eb44fcab9e4
DTSTAMP:20260424T102500Z
DTSTART:20250325T063000Z
DTEND:20250325T170000Z
LOCATION:Chiemgauer Alpen
SUMMARY:Alpenwanderer - Von Unken zum Wetterkreuz
DESCRIPTION:Von Unken auf schmalen Wegen über die Ölbergkapelle und an de
 r unteren Hölzalm vorbei zum Unkener Wetterkreuz. Der Abstieg erfolgt übe
 r die obere Hölzalm.\nhttps://www.dav-burghausen.de/events/bergwanderung/
URL:https://www.dav-burghausen.de/events/bergwanderung/
END:VEVENT
END:VCALENDAR