BEGIN:VCALENDAR
VERSION:2.0
PRODID:-//eventon.com NONSGML v1.0//EN
CALSCALE:GREGORIAN
METHOD:PUBLISH
BEGIN:VEVENT
UID:69e7edc63230e
DTSTAMP:20260421T213606Z
DTSTART:20250402T150000Z
DTEND:20251022T163000Z
LOCATION:
SUMMARY:KIDS ON BIKE
DESCRIPTION:Mountainbike Training und Ausfahrten für Kinder ab 9 Jahre Apr
 il &#8211; Oktober\,  jeden Mittwoch 17-18.30h (außer in den Ferienzeiten\
 ,  siehe unten) Das Training findet in Kooperation mit dem SV Wacker einmal
  pro Woche statt. Geboten werden den Nachwuchsbikern Übungen zur grundlege
 nden Fahrsicherheit und gemeinsame Ausfahrten auf den Trails rund um[..]\nh
 ttps://www.dav-burghausen.de/events/kids-on-bike-2025/
URL:https://www.dav-burghausen.de/events/kids-on-bike-2025/
END:VEVENT
END:VCALENDAR