BEGIN:VCALENDAR
VERSION:2.0
PRODID:-//eventon.com NONSGML v1.0//EN
CALSCALE:GREGORIAN
METHOD:PUBLISH
BEGIN:VEVENT
UID:69e806e9b907f
DTSTAMP:20260421T232321Z
DTSTART:20250401
DTEND:20250402
LOCATION:Chiemgauer Alpen
SUMMARY:Wanderung zum Taubensee
DESCRIPTION:Vom Parkplatz Birnbach/Reit im Winkl geht es über Hutzen- und 
 Stoibenmöseralm zum Taubensee. Rast bei der Taubenseehütte mit herrlicher
  Aussicht auf den Wilden Kaiser. Der Rückweg führt über die Dichtleralm.
  Übliche Wanderausrüstung mit Teleskopstöcken\,  Grödeln\,  ausreichend
  Brotzeit und Getränk\,  da unterwegs keine Einkehr. Fahrt mit DAV-Bus und
  ggf. Privat-Pkw. Abfahrt[..]\nhttps://www.dav-burghausen.de/events/bergtou
 r-taubensee-reit-im-winkl/
URL:https://www.dav-burghausen.de/events/bergtour-taubensee-reit-im-winkl/
END:VEVENT
END:VCALENDAR