BEGIN:VCALENDAR
VERSION:2.0
PRODID:-//eventon.com NONSGML v1.0//EN
CALSCALE:GREGORIAN
METHOD:PUBLISH
BEGIN:VEVENT
UID:69e9da51b382c
DTSTAMP:20260423T083737Z
DTSTART:20261231T070000Z
DTEND:20261231T150000Z
LOCATION:Chiemgauer Alpen
SUMMARY:Silvesterwanderung
DESCRIPTION:Wanderung in der näheren Umgebung in der Zeit von ca. 9 bis 16
  Uhr.\nhttps://www.dav-burghausen.de/events/silvesterwanderung-3/
URL:https://www.dav-burghausen.de/events/silvesterwanderung-3/
END:VEVENT
END:VCALENDAR