BEGIN:VCALENDAR
VERSION:2.0
PRODID:-//eventon.com NONSGML v1.0//EN
CALSCALE:GREGORIAN
METHOD:PUBLISH
BEGIN:VEVENT
UID:69e7d1bd8d06e
DTSTAMP:20260421T193629Z
DTSTART:20261025T060000Z
DTEND:20261025T170000Z
LOCATION:Chiemgauer Alpen
SUMMARY:Klausenberg
DESCRIPTION:Von Hohenaschau auf die Hofalm\,  weiter zum Laubenstein \,  Pr
 edigtstuhl  und Klausenberg . Abstieg nach Hainbach\,  mit Pkw oder Bus zu
 rück zum Parkplatz.\nhttps://www.dav-burghausen.de/events/klausenberg/
URL:https://www.dav-burghausen.de/events/klausenberg/
END:VEVENT
END:VCALENDAR