BEGIN:VCALENDAR
VERSION:2.0
PRODID:-//eventon.com NONSGML v1.0//EN
CALSCALE:GREGORIAN
METHOD:PUBLISH
BEGIN:VEVENT
UID:69e7839452edb
DTSTAMP:20260421T140300Z
DTSTART:20260705
DTEND:20260706
LOCATION:
SUMMARY:Sportklettern am Dietrichshorn
DESCRIPTION:Abwechslungsreiche Sportkletterrouten für Fortgeschrittene am 
 Dietrichshorn.\nhttps://www.dav-burghausen.de/events/sportklettern-am-dietr
 ichshorn/
URL:https://www.dav-burghausen.de/events/sportklettern-am-dietrichshorn/
END:VEVENT
END:VCALENDAR