BEGIN:VCALENDAR
VERSION:2.0
PRODID:-//eventon.com NONSGML v1.0//EN
CALSCALE:GREGORIAN
METHOD:PUBLISH
BEGIN:VEVENT
UID:69eb255fc4640
DTSTAMP:20260424T081007Z
DTSTART:20260306
DTEND:20260307
LOCATION:Brenner Berge
SUMMARY:Skitouren im Naviser und Schmirntal
DESCRIPTION:Mittelschwere Tagesskitouren in der Brennerregion. Übernachten
  werden wir in einem Gasthof. &nbsp;\nhttps://www.dav-burghausen.de/events/
 skitouren-im-naviser-und-schmirntal/
URL:https://www.dav-burghausen.de/events/skitouren-im-naviser-und-schmirntal/
END:VEVENT
END:VCALENDAR