BEGIN:VCALENDAR
VERSION:2.0
PRODID:-//eventon.com NONSGML v1.0//EN
CALSCALE:GREGORIAN
METHOD:PUBLISH
BEGIN:VEVENT
UID:69e582eda748c
DTSTAMP:20260420T013541Z
DTSTART:20260509T053000Z
DTEND:20260509T160000Z
LOCATION:Salzkammergut-Berge
SUMMARY:Schober und Frauenkopf
DESCRIPTION:Wir starten in Fuschl und wandern zur Burgruine Wartenfels. Von
  dort führt uns der Weg sehr zügig und mit großen Stufen zum Schober hin
 auf. Am Gipfel genießen wir den herrlichen Rundblick auf Berge und Seen. N
 ach einer Rast steigen wir zum Frauenkopf ab. Hier führt uns auch der Weg 
 wieder[..]\nhttps://www.dav-burghausen.de/events/schober-und-frauenkopf/
URL:https://www.dav-burghausen.de/events/schober-und-frauenkopf/
END:VEVENT
END:VCALENDAR