BEGIN:VCALENDAR
VERSION:2.0
PRODID:-//eventon.com NONSGML v1.0//EN
CALSCALE:GREGORIAN
METHOD:PUBLISH
BEGIN:VEVENT
UID:69e801e247470
DTSTAMP:20260421T230154Z
DTSTART:20260926T053000Z
DTEND:20260926T160000Z
LOCATION:Tennengebirge
SUMMARY:Schober im Tennengebirge
DESCRIPTION:Der Weg führt uns über die Gsengalm auf einen Sattel zum Berl
 iner Kreuz. Nun geht der Pfad zügig bergauf\,  bis wir den ersten Gipfel d
 es Schobers erreichen. Nach einer kurzen Querung erreichen wir den aussicht
 sreichen zweiten Schobergipfel. Der Abstieg erfolgt auf dem selben Weg.\nht
 tps://www.dav-burghausen.de/events/schober-im-tennengebirge/
URL:https://www.dav-burghausen.de/events/schober-im-tennengebirge/
END:VEVENT
END:VCALENDAR