BEGIN:VCALENDAR
VERSION:2.0
PRODID:-//eventon.com NONSGML v1.0//EN
CALSCALE:GREGORIAN
METHOD:PUBLISH
BEGIN:VEVENT
UID:69e9f311cb824
DTSTAMP:20260423T102313Z
DTSTART:20260919T053000Z
DTEND:20260919T153000Z
LOCATION:Chiemgauer Alpen
SUMMARY:Mühlhornkamm und Rossalm
DESCRIPTION:Vom Parkplatz geht’s gleich ordentlich bergauf zur Schachenbe
 rgalm – die perfekte Einstimmung auf die Tour. Weiter geht’s über eine
 n schmalen\,  felsigen Steig zum Mühlhörndl\,  wo man schon eine tolle Au
 ssicht genießen kann. Entlang des Grats wandert man gemütlich weiter zur 
 Mühlhornwand\,  bevor der Weg zur Rossalm führt – ideal für[..]\nhttps
 ://www.dav-burghausen.de/events/muehlhornkamm-und-rossalm/
URL:https://www.dav-burghausen.de/events/muehlhornkamm-und-rossalm/
END:VEVENT
END:VCALENDAR