BEGIN:VCALENDAR
VERSION:2.0
PRODID:-//eventon.com NONSGML v1.0//EN
CALSCALE:GREGORIAN
METHOD:PUBLISH
BEGIN:VEVENT
UID:69ea3c3f201d0
DTSTAMP:20260423T153527Z
DTSTART:20260124T150500Z
DTEND:20260124T150500Z
LOCATION:
SUMMARY:Streicher
DESCRIPTION:Wir steigen vom Parkplatz steil durch Waldgelände über den Ro
 ßboden auf\,  bis wir kurz vor dem Kienbergsattel freies Gelände erreiche
 n. Aus dem Sattel halten wir uns links und wandern über mäßig steile Hä
 nge und einem licht bewaldeten Rücken bis zu einer Hochfläche. Nach einer
  kurzen Steilstufe erreichen wir den Gipfel[..]\nhttps://www.dav-burghausen
 .de/events/streicher-fuer-anfaenger-geeignet/
URL:https://www.dav-burghausen.de/events/streicher-fuer-anfaenger-geeignet/
END:VEVENT
END:VCALENDAR