BEGIN:VCALENDAR
VERSION:2.0
PRODID:-//eventon.com NONSGML v1.0//EN
CALSCALE:GREGORIAN
METHOD:PUBLISH
BEGIN:VEVENT
UID:69ea22c80cff1
DTSTAMP:20260423T134648Z
DTSTART:20260307T153600Z
DTEND:20260307T225900Z
LOCATION:Berchtesgadener Alpen
SUMMARY:Watzmanngugel
DESCRIPTION:Über Stuben- und Grubenalm und weiter durch die FIS-Schneise e
 rreichen wir das Hochplateau der Gugel vor dem Watzmannmassiv. Abstieg wie 
 Aufstieg. &nbsp;\nhttps://www.dav-burghausen.de/events/watzmanngugel-2/
URL:https://www.dav-burghausen.de/events/watzmanngugel-2/
END:VEVENT
END:VCALENDAR