BEGIN:VCALENDAR
VERSION:2.0
PRODID:-//eventon.com NONSGML v1.0//EN
CALSCALE:GREGORIAN
METHOD:PUBLISH
BEGIN:VEVENT
UID:69e9da50104f3
DTSTAMP:20260423T083736Z
DTSTART:20260724T110000Z
DTEND:20260726T130000Z
LOCATION:Zillertaler Alpen
SUMMARY:Rastkogel und kleiner Gilfert
DESCRIPTION:Ein Wochenende in den Zillertaler Alpen: Am Freitag Anreise und
  bequemer Aufstieg\,  in 1\, 5 Stunden gehts auf die schÃ¶ne Weidener HÃ¼tt
 e Samstag steigen wir Ã¼ber die Halsspitze zum Nurpensjoch Ã¼ber einen schÃ
 ¶nen Gipfelgrad auf den Rastkogel (2762 m). Der Abstieg mit BademÃ¶glichkei
 ten (Bergsee!) bringt uns unserer nÃ¤chsten Unterkunft\,  der RastkogelhÃ¼t
 te.[..]\nhttps://www.dav-burghausen.de/events/rastkogel-und-kleiner-gilfert
 -2/
URL:https://www.dav-burghausen.de/events/rastkogel-und-kleiner-gilfert-2/
END:VEVENT
END:VCALENDAR