BEGIN:VCALENDAR
VERSION:2.0
PRODID:-//eventon.com NONSGML v1.0//EN
CALSCALE:GREGORIAN
METHOD:PUBLISH
BEGIN:VEVENT
UID:69ea0763e2935
DTSTAMP:20260423T114955Z
DTSTART:20261212
DTEND:20261213
LOCATION:Chiemgauer Alpen
SUMMARY:Rund um das Pflasterbachhörndl
DESCRIPTION:Von Bad Reichenhall aus wandern wir über den zauberhaften Zwer
 gerlweg zum Thumsee. Auf dem Soleleitungsweg gehts mit ein paar Höhenmeter
 n und einigen Treppen rauf und wieder runter nach Schneitzelreuth. An der S
 aalach entlang zum Saalachsee und zurück zum Ausgangspunkt. Bei einer leck
 eren Brotzeit wärmen wir uns auf und genießen noch[..]\nhttps://www.dav-b
 urghausen.de/events/rund-um-das-pflasterbachhoerndl/
URL:https://www.dav-burghausen.de/events/rund-um-das-pflasterbachhoerndl/
END:VEVENT
END:VCALENDAR