BEGIN:VCALENDAR
VERSION:2.0
PRODID:-//eventon.com NONSGML v1.0//EN
CALSCALE:GREGORIAN
METHOD:PUBLISH
BEGIN:VEVENT
UID:69eb28ae4b121
DTSTAMP:20260424T082414Z
DTSTART:20250921
DTEND:20250922
LOCATION:Salzkammergut-Berge
SUMMARY:Nockstein Familienwanderung
DESCRIPTION:Ein Klassiker der Familiengruppe der schon seit mehr als 5 Jahr
 en im September stattfindet. Die Wanderung führt erst durch den Wald und z
 um Schluss kurz steil auf den felsigen Aussichtsgipfel. Die Kinder haben di
 e Möglichkeit\,  eine Kraxelroute zu wählen. Insgesamt sind es 4 km und 3
 00 Hm. Nach der Tour[..]\nhttps://www.dav-burghausen.de/events/nockstein/
URL:https://www.dav-burghausen.de/events/nockstein/
END:VEVENT
END:VCALENDAR