BEGIN:VCALENDAR
VERSION:2.0
PRODID:-//eventon.com NONSGML v1.0//EN
CALSCALE:GREGORIAN
METHOD:PUBLISH
BEGIN:VEVENT
UID:69e804ba8fec5
DTSTAMP:20260421T231402Z
DTSTART:20250902T050000Z
DTEND:20250902T215900Z
LOCATION:Chiemgauer Alpen
SUMMARY:Hochscharten und Stuhlkopf
DESCRIPTION:Vom Parkplatz am Weitsee geht es über einen Ziehweg\,  in der 
 Schlucht des Wappbachs bis zur Gräbenalm. Von dort über steile\,  schmale
 \,  teils leicht ausgesetzte Pfade weiter bis zum Gipfel des Hochscharten (
 2 Std. / 750Hm). Über den Aufstiegsweg steigen wir nach der Gipfelrast ab 
 bis zur Gräbenalm. Wer noch[..]\nhttps://www.dav-burghausen.de/events/hoch
 scharten-und-stuhlkopf/
URL:https://www.dav-burghausen.de/events/hochscharten-und-stuhlkopf/
END:VEVENT
END:VCALENDAR