BEGIN:VCALENDAR
VERSION:2.0
PRODID:-//eventon.com NONSGML v1.0//EN
CALSCALE:GREGORIAN
METHOD:PUBLISH
BEGIN:VEVENT
UID:69e7803133e72
DTSTAMP:20260421T134833Z
DTSTART:20260830T040000Z
DTEND:20260906T180000Z
LOCATION:
SUMMARY:Bergwanderwoche in der Niederen Tatra
DESCRIPTION:Die Bergwoche &#8217;26 führt uns wieder einmal weiter weg! Au
 sgangspunkt für unsere Touren ist ein Hotel im Nationalpark &#8220;Niedere
  Tatra&#8221; inmitten der Slowakischen Republik. Von hier aus erkunden wir
  die Gegend und unternehmen Tal- und Bergwanderungen\,  wie immer\,  gefüh
 rt von Wanderleitern der Sektion. Angeboten werden Touren mit unterschiedli
 chen Schwierigkeitsgraden\,  denen[..]\nhttps://www.dav-burghausen.de/event
 s/bergwanderwoche-in-der-niedern-tatra/
URL:https://www.dav-burghausen.de/events/bergwanderwoche-in-der-niedern-tatra/
END:VEVENT
END:VCALENDAR