BEGIN:VCALENDAR
VERSION:2.0
PRODID:-//eventon.com NONSGML v1.0//EN
CALSCALE:GREGORIAN
METHOD:PUBLISH
BEGIN:VEVENT
UID:69e783998cc56
DTSTAMP:20260421T140305Z
DTSTART:20260822T120000Z
DTEND:20260823T120000Z
LOCATION:Zillertaler Alpen
SUMMARY:Hoher Riffler (3231 m)
DESCRIPTION:1. Tag: Aufstieg vom Schlegeisspeicher zum Friesenberghaus. Üb
 er aussichtsreiches Almgelände\,  entlang an Gebirgsbächlein steigen wir 
 zur Hütte auf. 2. Tag:  Über Blockgelände erreichen wir den Gipfel auf 
 3231 m mit herrlicher Aussicht. Im Abstieg gehen wir einen &#8220;Umweg &#8
 221; vorbei am Friesenbergsee über die Olperer Hütte und der berühmten H
 ängebrücke[..]\nhttps://www.dav-burghausen.de/events/hoher-riffler-3231-m
 -ueber-das-geschichtstraechtige-friesenberghaus/
URL:https://www.dav-burghausen.de/events/hoher-riffler-3231-m-ueber-das-geschichtstraechtige-friesenberghaus/
END:VEVENT
END:VCALENDAR