BEGIN:VCALENDAR
VERSION:2.0
PRODID:-//eventon.com NONSGML v1.0//EN
CALSCALE:GREGORIAN
METHOD:PUBLISH
BEGIN:VEVENT
UID:69e79153e8e8e
DTSTAMP:20260421T150139Z
DTSTART:20260918T120000Z
DTEND:20260920T120000Z
LOCATION:Berchtesgadener Alpen
SUMMARY:Ein Wochenende auf dem Ingoldstädter Haus
DESCRIPTION:1. Tag.: Aufstieg von Weißbach/Pürzelbach zum Ingolstädter H
 aus. Ein recht langer Zustieg führt uns erst durch Almgelände\,  vorbei a
 m wunderschön gelegenen Dießenbachstausee. Im oberen Teil wird es zunehme
 nd steil und felsig bis wir schließlich das Ingolstädter Haus nach ca. 4-
 5 Stunden erreichen. 2. Tag.: Gipfelbesteigung: Großer Hundstod und Kleine
 r Hundstod.[..]\nhttps://www.dav-burghausen.de/events/ein-wochenende-auf-de
 m-ingoldstaedter-haus-mit-besteigung-vom-grossen-hundstod-und-seehorn/
URL:https://www.dav-burghausen.de/events/ein-wochenende-auf-dem-ingoldstaedter-haus-mit-besteigung-vom-grossen-hundstod-und-seehorn/
END:VEVENT
END:VCALENDAR