BEGIN:VCALENDAR
VERSION:2.0
PRODID:-//eventon.com NONSGML v1.0//EN
CALSCALE:GREGORIAN
METHOD:PUBLISH
BEGIN:VEVENT
UID:69e78066c475d
DTSTAMP:20260421T134926Z
DTSTART:20260823T180000Z
DTEND:20260827T180000Z
LOCATION:Totes Gebirge
SUMMARY:Klettersteige und Gipfel im Toten Gebirge
DESCRIPTION:Überquerung des Toten Gebirges von der Welser Hütte über die
  Pühringer Hütte zum Prielschutzhaus. Der Tassilo-Klettersteig und der Sp
 itzmauer-Klettersteig liegen u.a. am Weg.\nhttps://www.dav-burghausen.de/ev
 ents/klettersteige-und-gipfel-im-toten-gebirge/
URL:https://www.dav-burghausen.de/events/klettersteige-und-gipfel-im-toten-gebirge/
END:VEVENT
END:VCALENDAR