BEGIN:VCALENDAR
VERSION:2.0
PRODID:-//eventon.com NONSGML v1.0//EN
CALSCALE:GREGORIAN
METHOD:PUBLISH
BEGIN:VEVENT
UID:69e7d1c77c8cd
DTSTAMP:20260421T193639Z
DTSTART:20260123
DTEND:20260124
LOCATION:Kitzbüheler Alpen
SUMMARY:Skitouren Grundkurs
DESCRIPTION:Der Kurs richtet sich an Einsteiger\,  die Skitouren im unvergl
 etscherten Gelände unternehmen möchten. An einem Theorieabend und drei Pr
 axistagen lernt ihr verschiedene Schneearten und die Grundlagen der Lawinen
 kunde kennen. Damit steigen wir auch ein in die Planung und Vorbereitung ei
 ner Skitour. Im Gelände werden wir verschiedene Aufstiegstechniken ausfüh
 rlich üben\,  euch[..]\nhttps://www.dav-burghausen.de/events/skitouren-gru
 ndkurs-2/
URL:https://www.dav-burghausen.de/events/skitouren-grundkurs-2/
END:VEVENT
END:VCALENDAR