BEGIN:VCALENDAR
VERSION:2.0
PRODID:-//eventon.com NONSGML v1.0//EN
CALSCALE:GREGORIAN
METHOD:PUBLISH
BEGIN:VEVENT
UID:69ea22a5771b8
DTSTAMP:20260423T134613Z
DTSTART:20260313
DTEND:20260314
LOCATION:Stubaier Alpen
SUMMARY:Skitouren im Sellrain
DESCRIPTION:Das Westfalenhaus (2273m) ist ein perfekter Stützpunkt für Sk
 itouren mit attraktiven Gipfeln in direkter Umgebung. &nbsp;\nhttps://www.d
 av-burghausen.de/events/skitouren-im-sellrain-2/
URL:https://www.dav-burghausen.de/events/skitouren-im-sellrain-2/
END:VEVENT
END:VCALENDAR