BEGIN:VCALENDAR
VERSION:2.0
PRODID:-//eventon.com NONSGML v1.0//EN
CALSCALE:GREGORIAN
METHOD:PUBLISH
BEGIN:VEVENT
UID:69ea075abfdd9
DTSTAMP:20260423T114946Z
DTSTART:20261010
DTEND:20261011
LOCATION:Berchtesgadener Alpen
SUMMARY:Hochschlegel
DESCRIPTION:Auf gut markierten und versicherten Weg geht es über den Alpga
 rtensteig durch die wilde Seite des Lattengebirges auf den Hochschlegel. Ab
 stieg über Toni-Michl-Steig zurück zum Ausgangspunkt.\nhttps://www.dav-bu
 rghausen.de/events/auf-den-hochschlegel/
URL:https://www.dav-burghausen.de/events/auf-den-hochschlegel/
END:VEVENT
END:VCALENDAR