BEGIN:VCALENDAR
VERSION:2.0
PRODID:-//eventon.com NONSGML v1.0//EN
CALSCALE:GREGORIAN
METHOD:PUBLISH
BEGIN:VEVENT
UID:69e782d33cb2c
DTSTAMP:20260421T135947Z
DTSTART:20260716
DTEND:20260717
LOCATION:Chiemgauer Alpen
SUMMARY:Pidinger-Klettersteig
DESCRIPTION:Anspruchsvoller Klettersteig durch die Nordabstürze des Hochst
 aufens.\nhttps://www.dav-burghausen.de/events/klettersteig-tour/
URL:https://www.dav-burghausen.de/events/klettersteig-tour/
END:VEVENT
END:VCALENDAR