BEGIN:VCALENDAR
VERSION:2.0
PRODID:-//eventon.com NONSGML v1.0//EN
CALSCALE:GREGORIAN
METHOD:PUBLISH
BEGIN:VEVENT
UID:69e782ed48f11
DTSTAMP:20260421T140013Z
DTSTART:20260705
DTEND:20260706
LOCATION:Chiemgauer Alpen
SUMMARY:Von der Halle an den Fels
DESCRIPTION:Du kletterst in der Halle im Vorstieg und willst raus an den Fe
 ls\,  dann lernst du in diesem Kurs die Techniken für das Klettern im Klet
 tergarten (Kletterrouten mit einer Seillänge).\nhttps://www.dav-burghausen
 .de/events/von-der-halle-an-den-fels-6/
URL:https://www.dav-burghausen.de/events/von-der-halle-an-den-fels-6/
END:VEVENT
END:VCALENDAR