BEGIN:VCALENDAR
VERSION:2.0
PRODID:-//eventon.com NONSGML v1.0//EN
CALSCALE:GREGORIAN
METHOD:PUBLISH
BEGIN:VEVENT
UID:69e782c9eb8e1
DTSTAMP:20260421T135937Z
DTSTART:20251214T080000Z
DTEND:20251214T225900Z
LOCATION:Chiemgauer Alpen
SUMMARY:Grundkurs Skitechnik
DESCRIPTION:Du möchtest Deine Skitechnik für Skitouren verbessern\,  dann
  bist Du in diesem Kurs genau richtig. Wir werden an der optimalen Körperp
 osition über dem Ski und der perfekten Kurventechnik in unterschiedlichen 
 Hangsteilheiten arbeiten. Dieser Kurs findet größtenteils auf der Piste s
 tatt\,  da hier Übungen leichter gefahren werden können als im Gelände.[
 ..]\nhttps://www.dav-burghausen.de/events/grundkurs-skitechnik-2026/
URL:https://www.dav-burghausen.de/events/grundkurs-skitechnik-2026/
END:VEVENT
END:VCALENDAR