BEGIN:VCALENDAR
VERSION:2.0
PRODID:-//eventon.com NONSGML v1.0//EN
CALSCALE:GREGORIAN
METHOD:PUBLISH
BEGIN:VEVENT
UID:69e7838a40662
DTSTAMP:20260421T140250Z
DTSTART:20260710
DTEND:20260711
LOCATION:Glockner-Gruppe
SUMMARY:Hochtouren vom Heinrich-Schwaiger-Haus
DESCRIPTION:1. Tag â€“ Anstieg zum Heinrich-Schwaiger-Haus: Die Tour beginn
 t am Stausees Mooserboden bei Kaprun\,  in Serpentinen schlÃ¤ngelt sich der
  Weg durch grasige HÃ¤nge hoch zur Unterkunft der nÃ¤chsten 3 Tag. 2. Tag â
 €“ Gipfeltag: GroÃŸes Wiesbachhorn\,  Hinterer Bratschenkopf\,  Klockerin: 
 Am nÃ¤chsten Morgen geht es Ã¼ber den Kaindlgrat auf das GroÃŸen[..]\nhttps
 ://www.dav-burghausen.de/events/3%e2%80%91tages-hochtour-heinrich-schwaiger
 -haus-grosses-wiesbachhorn-hinterer-bratschenkopf-klockerin/
URL:https://www.dav-burghausen.de/events/3%e2%80%91tages-hochtour-heinrich-schwaiger-haus-grosses-wiesbachhorn-hinterer-bratschenkopf-klockerin/
END:VEVENT
END:VCALENDAR