BEGIN:VCALENDAR
VERSION:2.0
PRODID:-//eventon.com NONSGML v1.0//EN
CALSCALE:GREGORIAN
METHOD:PUBLISH
BEGIN:VEVENT
UID:69ea1afad623d
DTSTAMP:20260423T131330Z
DTSTART:20260801
DTEND:20260802
LOCATION:Salzburger Schieferalpen
SUMMARY:Gamskarkogel (über Ostpreußenhütte)
DESCRIPTION:Von der Dielalm oberhalb von Werfen auf unschwierigem Weg zur B
 lienteckalm und weiter auf einem Steig zur Ostpreußenhütte. Von dort auf 
 anspruchsvollerem Steig zum Gamskarkogel (2013m). Rückweg wie Aufstieg.\nh
 ttps://www.dav-burghausen.de/events/gamskarkogel-ueber-ostpreussenhuette/
URL:https://www.dav-burghausen.de/events/gamskarkogel-ueber-ostpreussenhuette/
END:VEVENT
END:VCALENDAR