BEGIN:VCALENDAR
VERSION:2.0
PRODID:-//eventon.com NONSGML v1.0//EN
CALSCALE:GREGORIAN
METHOD:PUBLISH
BEGIN:VEVENT
UID:69e7b68e90c0a
DTSTAMP:20260421T174030Z
DTSTART:20260724
DTEND:20260725
LOCATION:Fränkische Schweiz
SUMMARY:Kletterwochenende im Frankenjura
DESCRIPTION:Spaß am und im Fels im Frankenjura\nhttps://www.dav-burghausen
 .de/events/kletterwochenende-im-frankenjura-2026/
URL:https://www.dav-burghausen.de/events/kletterwochenende-im-frankenjura-2026/
END:VEVENT
END:VCALENDAR