BEGIN:VCALENDAR
VERSION:2.0
PRODID:-//eventon.com NONSGML v1.0//EN
CALSCALE:GREGORIAN
METHOD:PUBLISH
BEGIN:VEVENT
UID:69ea24a2c35c4
DTSTAMP:20260423T135442Z
DTSTART:20260705
DTEND:20260706
LOCATION:Ötztaler Alpen
SUMMARY:Hochtouren mit Stützpunkt Martin-Busch-Hütte
DESCRIPTION:1. Tag: Anreise nach Vent und Aufstieg zur Martin-Busch-Hütte 
 2. Tag: Martin-Busch-Hütte über den Marzellkamm zum Similaunund 3. Tag: M
 artin-Busch-Hütte zur Hinteren Schwärze 4. Tag: Martin-Busch-Hütte zur K
 reuzspitze anschließend Abstieg nach Vent und Heimreise. Die genannten Tou
 ren sind anspruchsvolle Hochtouren\,  die Gletschererfahrung\,  Trittsicher
 heit und sehr gute Kondition erfordert. Tourenleiter: Ludwig[..]\nhttps://w
 ww.dav-burghausen.de/events/hochtouren-mit-stuetzpunkt-martin-busch-huette/
URL:https://www.dav-burghausen.de/events/hochtouren-mit-stuetzpunkt-martin-busch-huette/
END:VEVENT
END:VCALENDAR