BEGIN:VCALENDAR
VERSION:2.0
PRODID:-//eventon.com NONSGML v1.0//EN
CALSCALE:GREGORIAN
METHOD:PUBLISH
BEGIN:VEVENT
UID:69ea0c6b1e61a
DTSTAMP:20260423T121123Z
DTSTART:20260304T153000Z
DTEND:20260304T170000Z
LOCATION:
SUMMARY:Wir Klettern und sammeln Müll - Mittermeiersteg Burghausen
DESCRIPTION:Warum nicht den Spaß mit dem Nützlichen verbinden? Wir wollen
  wieder zusammen mit dem Umweltamt Burghausen den Salzachhang am Panoramawe
 g von den ungeliebten &#8220;Bewohnern&#8221; wie dem &#8220;Pappigen Beche
 rlein&#8221;\,  dem &#8220;Weißen Rotzling&#8221;\,  dem &#8220;Gemeinden 
 Beutler&#8221; oder dem &#8220;Kleinen Schluckspecht&#8221; befreien. Unter
 halb des Stegs ist Kletterausrüstung notwendig. Personen aller Altersgrupp
 en sind herzlich[..]\nhttps://www.dav-burghausen.de/events/wir-klettern-und
 -sammeln-muell-mittermeiersteg-burghausen/
URL:https://www.dav-burghausen.de/events/wir-klettern-und-sammeln-muell-mittermeiersteg-burghausen/
END:VEVENT
END:VCALENDAR