BEGIN:VCALENDAR
VERSION:2.0
PRODID:-//eventon.com NONSGML v1.0//EN
CALSCALE:GREGORIAN
METHOD:PUBLISH
BEGIN:VEVENT
UID:69ea3be2a69cf
DTSTAMP:20260423T153354Z
DTSTART:20260118T090000Z
DTEND:20260118T110000Z
LOCATION:
SUMMARY:Bärenhöhle und Leonberg
DESCRIPTION:Um uns auf die neue Wandersaison vorzubereiten\,  beginnen wir 
 mit dieser lokalen und kleinen Wanderung im faszinierenden Gelände bei den
  Dachlwänden zwischen Marktl und Perach. Unser erstes Ziel ist die Bärenh
 öhle\,  eine geologische Formation aus Sedimentgestein. Anschließend erre
 ichen wir Leonberg\,  wo einst eine mittelalterliche Burg stand\,  die der 
 Erosion des[..]\nhttps://www.dav-burghausen.de/events/baerenhoehle-und-leon
 berg/
URL:https://www.dav-burghausen.de/events/baerenhoehle-und-leonberg/
END:VEVENT
END:VCALENDAR