BEGIN:VCALENDAR
VERSION:2.0
PRODID:-//eventon.com NONSGML v1.0//EN
CALSCALE:GREGORIAN
METHOD:PUBLISH
BEGIN:VEVENT
UID:69ecb6fc69b5c
DTSTAMP:20260425T124340Z
DTSTART:20260510
DTEND:20260511
LOCATION:Berchtesgadener Alpen
SUMMARY:Almbachklamm
DESCRIPTION:Von der alten Kugelmühle aus gehen wir durch eine der spektaku
 lärsten Schluchten der Alpen\,  bevor wir über den Talgrabenweg zum Etten
 berg gelangen und anschließend über den Hammerstielweg absteigen. Nicht f
 ür Kinderwagen geeignet.\nhttps://www.dav-burghausen.de/events/almbachklam
 m/
URL:https://www.dav-burghausen.de/events/almbachklamm/
END:VEVENT
END:VCALENDAR