BEGIN:VCALENDAR
VERSION:2.0
PRODID:-//eventon.com NONSGML v1.0//EN
CALSCALE:GREGORIAN
METHOD:PUBLISH
BEGIN:VEVENT
UID:69e7807f5306c
DTSTAMP:20260421T134951Z
DTSTART:20260927
DTEND:20260928
LOCATION:Chiemgauer Alpen
SUMMARY:Harbachalm
DESCRIPTION:Wir wandern über den Waldbahnweg entlang der Vorderen Schwarza
 chen zur Alm.\nhttps://www.dav-burghausen.de/events/harbachalm/
URL:https://www.dav-burghausen.de/events/harbachalm/
END:VEVENT
END:VCALENDAR