BEGIN:VCALENDAR
VERSION:2.0
PRODID:-//eventon.com NONSGML v1.0//EN
CALSCALE:GREGORIAN
METHOD:PUBLISH
BEGIN:VEVENT
UID:69e7680cb2347
DTSTAMP:20260421T120532Z
DTSTART:20261018
DTEND:20261019
LOCATION:Berchtesgadener Alpen
SUMMARY:Kneifelspitze
DESCRIPTION:Von der Wallfahrtskirche Maria Gern aus steigen wir auf die Kne
 ifelspitze\,  die einen herrlichen Panoramablick auf den Watzmann und das g
 esamte Tal bietet.\nhttps://www.dav-burghausen.de/events/kneifelspitze/
URL:https://www.dav-burghausen.de/events/kneifelspitze/
END:VEVENT
END:VCALENDAR