BEGIN:VCALENDAR
VERSION:2.0
PRODID:-//eventon.com NONSGML v1.0//EN
CALSCALE:GREGORIAN
METHOD:PUBLISH
BEGIN:VEVENT
UID:69e9f484415bd
DTSTAMP:20260423T102924Z
DTSTART:20260705T053000Z
DTEND:20260705T215900Z
LOCATION:Chiemgauer Alpen
SUMMARY:Sonntagshorn
DESCRIPTION:Wanderung auf dem höchsten Berg der Chiemgauer Alpen über den
  leichteren Weg.\nhttps://www.dav-burghausen.de/events/sonntagshorn/
URL:https://www.dav-burghausen.de/events/sonntagshorn/
END:VEVENT
END:VCALENDAR