BEGIN:VCALENDAR
VERSION:2.0
PRODID:-//eventon.com NONSGML v1.0//EN
CALSCALE:GREGORIAN
METHOD:PUBLISH
BEGIN:VEVENT
UID:69e5f91745439
DTSTAMP:20260420T095951Z
DTSTART:20260613T053000Z
DTEND:20260613T215900Z
LOCATION:Chiemgauer Alpen
SUMMARY:Sonnwendwand
DESCRIPTION:Die leichte Wanderung auf die Sonnwendwand in den Chiemgauer Al
 pen bietet eine stille Alternative zur benachbarten Kampenwand. Vom Wanderp
 arkplatz  führt uns die Route über  Steige zum aussichtsreichen Gipfel\
 nhttps://www.dav-burghausen.de/events/sonnwendwand/
URL:https://www.dav-burghausen.de/events/sonnwendwand/
END:VEVENT
END:VCALENDAR