BEGIN:VCALENDAR
VERSION:2.0
PRODID:-//eventon.com NONSGML v1.0//EN
CALSCALE:GREGORIAN
METHOD:PUBLISH
BEGIN:VEVENT
UID:69ec9ce44ed55
DTSTAMP:20260425T105220Z
DTSTART:20250916T053000Z
DTEND:20250916T215900Z
LOCATION:Chiemgauer Alpen
SUMMARY:Alpenwanderer - Gamsknogel von Adlgaß
DESCRIPTION:Von Adlgaß aus wandern wir über den Zwieselsteig hinauf\,  bi
 s wir auf den Querungssteig zwischen Zwiesel und Gamsknogel treffen. Ab hie
 r am Grat leicht ausgesetzt und seilversichert bis zum Gipfel des Gamsknoge
 l. Der Abstieg führt uns einen Latschenhang hinunter zum Almgelände der K
 ohleralm. Hier gibt´s meist gekühlte Getränke im Brunnen.[..]\nhttps://w
 ww.dav-burghausen.de/events/alpenwanderer-gamsknogel-von-adlgass/
URL:https://www.dav-burghausen.de/events/alpenwanderer-gamsknogel-von-adlgass/
END:VEVENT
END:VCALENDAR