BEGIN:VCALENDAR
VERSION:2.0
PRODID:-//eventon.com NONSGML v1.0//EN
CALSCALE:GREGORIAN
METHOD:PUBLISH
BEGIN:VEVENT
UID:69eb924c315b2
DTSTAMP:20260424T155452Z
DTSTART:20260311T180000Z
DTEND:20260311T225900Z
LOCATION:
SUMMARY:Jahreshauptversammlung
DESCRIPTION:Tagesordnung: BegrÃ¼ÃŸungâ€‹ Bericht des 1. Vorsitzendenâ€‹ Ber
 ichte aus den Abteilungenâ€‹ Kassenberichtâ€‹ Bericht der KassenprÃ¼fung un
 d Entlastung des Vorstandsâ€‹ Haushaltsplan 2026â€‹ Neuer Jugendreferent\, 
  Tourenreferent und Referentin fÃ¼r Social Mediaâ€‹ WÃ¼nsche und AntrÃ¤geâ€
 ‹ Ehrung der Jubilareâ€‹ Bildershow &#8211; AktivitÃ¤ten einer lebendigen S
 ektion\nhttps://www.dav-burghausen.de/events/jahreshauptversammlung-2026/
URL:https://www.dav-burghausen.de/events/jahreshauptversammlung-2026/
END:VEVENT
END:VCALENDAR