BEGIN:VCALENDAR
VERSION:2.0
PRODID:-//eventon.com NONSGML v1.0//EN
CALSCALE:GREGORIAN
METHOD:PUBLISH
BEGIN:VEVENT
UID:69e7838f568c4
DTSTAMP:20260421T140255Z
DTSTART:20260428T153000Z
DTEND:20260428T215900Z
LOCATION:
SUMMARY:Mountainbike Feierabendrunde
DESCRIPTION:Mountainbike Runde in Kooperation mit dem SV Wacker. Es geht ca
 . 2h rund um Burghausen\,  über Waldwege und den einen oder anderen Trail.
  Anmeldung und Organisation erfolgt direkt per: Whatsapp Gruppe. Gemeinsch
 aftstour!\nhttps://www.dav-burghausen.de/events/mountainbike-feierabendrund
 e-2026/var/ri-4.l-L1
URL:https://www.dav-burghausen.de/events/mountainbike-feierabendrunde-2026/var/ri-4.l-L1
END:VEVENT
END:VCALENDAR